BEGIN:VCALENDAR
VERSION:2.0
PRODID:-//wp-events-plugin.com//7.2.3.1//EN
TZID:Europe/Amsterdam
X-WR-TIMEZONE:Europe/Amsterdam
BEGIN:VEVENT
UID:18@onconovo.nl
DTSTART;TZID=Europe/Amsterdam:20260409T160000
DTEND;TZID=Europe/Amsterdam:20260409T201500
DTSTAMP:20260224T100140Z
URL:https://onconovo.nl/evenementen/sarcoomsymposium-diagnostiek-en-behand
 eling-van-sarcomen-anno-2026/
SUMMARY:Sarcoomsymposium "Diagnostiek en behandeling van sarcomen anno 2026
 "
DESCRIPTION:Op donderdag 9 april organiseert het Antoni van Leeuwenhoek het
  Sarcoomsymposium: "Diagnostiek en behandeling van sarcomen anno 2026" voo
 r iedereen die in de klinische praktijk sarcoompatiënten tegenkomt en zij
 n of haar kennis wil verdiepen.
ATTACH;FMTTYPE=image/jpeg:https://onconovo.nl/wp-content/uploads/2026/02/O
 peratie.jpg
CATEGORIES:Voor zorgverleners
LOCATION:Antoni van Leeuwenhoek\, Plesmanlaan 121\, Amsterdam\, 1066 CX\, N
 ederland
X-APPLE-STRUCTURED-LOCATION;VALUE=URI;X-ADDRESS=Plesmanlaan 121\, Amsterdam
 \, 1066 CX\, Nederland;X-APPLE-RADIUS=100;X-TITLE=Antoni van Leeuwenhoek:g
 eo:0,0
END:VEVENT
BEGIN:VTIMEZONE
TZID:Europe/Amsterdam
X-LIC-LOCATION:Europe/Amsterdam
BEGIN:DAYLIGHT
DTSTART:20260329T030000
TZOFFSETFROM:+0100
TZOFFSETTO:+0200
TZNAME:CEST
END:DAYLIGHT
END:VTIMEZONE
END:VCALENDAR