BEGIN:VCALENDAR
VERSION:2.0
PRODID:-//wp-events-plugin.com//7.2.3.1//EN
TZID:Europe/Amsterdam
X-WR-TIMEZONE:Europe/Amsterdam
BEGIN:VEVENT
UID:27@onconovo.nl
DTSTART;TZID=Europe/Amsterdam:20260601T160000
DTEND;TZID=Europe/Amsterdam:20260601T193000
DTSTAMP:20260424T140754Z
URL:https://onconovo.nl/evenementen/symposium-behandeling-van-hersenmetast
 asen-en-leptomeningeale/
SUMMARY:Symposium behandeling van hersenmetastasen en leptomeningeale
DESCRIPTION:Nieuwe inzichten in de behandeling van hersenmetastasen en lept
 omeningeale metastasen.
ATTACH;FMTTYPE=image/jpeg:https://onconovo.nl/wp-content/uploads/2026/04/f
 oto-mdo.webp
CATEGORIES:Voor zorgverleners
LOCATION:Antoni van Leeuwenhoek\, Plesmanlaan 121\, Amsterdam\, 1066 CX\, N
 ederland
X-APPLE-STRUCTURED-LOCATION;VALUE=URI;X-ADDRESS=Plesmanlaan 121\, Amsterdam
 \, 1066 CX\, Nederland;X-APPLE-RADIUS=100;X-TITLE=Antoni van Leeuwenhoek:g
 eo:0,0
END:VEVENT
BEGIN:VTIMEZONE
TZID:Europe/Amsterdam
X-LIC-LOCATION:Europe/Amsterdam
BEGIN:DAYLIGHT
DTSTART:20260329T030000
TZOFFSETFROM:+0100
TZOFFSETTO:+0200
TZNAME:CEST
END:DAYLIGHT
END:VTIMEZONE
END:VCALENDAR